BEGIN:VCALENDAR
VERSION:2.0
PRODID:-//Fibershed - ECPv6.15.20//NONSGML v1.0//EN
CALSCALE:GREGORIAN
METHOD:PUBLISH
X-WR-CALNAME:Fibershed
X-ORIGINAL-URL:https://fibershed.org
X-WR-CALDESC:Events for Fibershed
REFRESH-INTERVAL;VALUE=DURATION:PT1H
X-Robots-Tag:noindex
X-PUBLISHED-TTL:PT1H
BEGIN:VTIMEZONE
TZID:America/Los_Angeles
BEGIN:DAYLIGHT
TZOFFSETFROM:-0800
TZOFFSETTO:-0700
TZNAME:PDT
DTSTART:20250309T100000
END:DAYLIGHT
BEGIN:STANDARD
TZOFFSETFROM:-0700
TZOFFSETTO:-0800
TZNAME:PST
DTSTART:20251102T090000
END:STANDARD
BEGIN:DAYLIGHT
TZOFFSETFROM:-0800
TZOFFSETTO:-0700
TZNAME:PDT
DTSTART:20260308T100000
END:DAYLIGHT
BEGIN:STANDARD
TZOFFSETFROM:-0700
TZOFFSETTO:-0800
TZNAME:PST
DTSTART:20261101T090000
END:STANDARD
BEGIN:DAYLIGHT
TZOFFSETFROM:-0800
TZOFFSETTO:-0700
TZNAME:PDT
DTSTART:20270314T100000
END:DAYLIGHT
BEGIN:STANDARD
TZOFFSETFROM:-0700
TZOFFSETTO:-0800
TZNAME:PST
DTSTART:20271107T090000
END:STANDARD
END:VTIMEZONE
BEGIN:VEVENT
DTSTART;TZID=America/Los_Angeles:20261107T100000
DTEND;TZID=America/Los_Angeles:20261107T150000
DTSTAMP:20260420T224034
CREATED:20260205T021109Z
LAST-MODIFIED:20260205T165406Z
UID:33408-1794045600-1794063600@fibershed.org
SUMMARY:Fibershed's Winter Market 2026
DESCRIPTION:Join us at Fibershed’s Winter Market in downtown Point Reyes Station! Find locally-grown\, naturally-dyed\, and minimally-processed goods from across the Northern California region. \n~ Engage with over 25 vendors\, from local farmers\, ranchers\, and artisans engaged in the natural fiber ecosystem. \n~ Purchase gifts for family and friends\, and get inspired for your next project by the offerings of the local landscape! \nEveryone is welcome — no admission fee — enjoy local music\, tea and snacks too! \n~Stay tuned to learn who will be our 2026 Vendors!~\nDate: Saturday November 7\, 2026 10am-3pm\nLocation: Dance Palace\, 503 B Street\, Point Reyes Station\, CA
URL:https://fibershed.org/event/fibersheds-winter-market-2026/
LOCATION:Dance Palace\, 503 B Street\, Point Reyes Station\, CA\, 94956\, United States
CATEGORIES:event,family event,farmer's market,fiber art sales,market
ORGANIZER;CN="Fibershed Learning Center":MAILTO:rhonda@fibershed.org
END:VEVENT
END:VCALENDAR