BEGIN:VCALENDAR
VERSION:2.0
PRODID:-//Fibershed - ECPv6.15.20//NONSGML v1.0//EN
CALSCALE:GREGORIAN
METHOD:PUBLISH
X-WR-CALNAME:Fibershed
X-ORIGINAL-URL:https://fibershed.org
X-WR-CALDESC:Events for Fibershed
REFRESH-INTERVAL;VALUE=DURATION:PT1H
X-Robots-Tag:noindex
X-PUBLISHED-TTL:PT1H
BEGIN:VTIMEZONE
TZID:America/Los_Angeles
BEGIN:DAYLIGHT
TZOFFSETFROM:-0800
TZOFFSETTO:-0700
TZNAME:PDT
DTSTART:20230312T100000
END:DAYLIGHT
BEGIN:STANDARD
TZOFFSETFROM:-0700
TZOFFSETTO:-0800
TZNAME:PST
DTSTART:20231105T090000
END:STANDARD
BEGIN:DAYLIGHT
TZOFFSETFROM:-0800
TZOFFSETTO:-0700
TZNAME:PDT
DTSTART:20240310T100000
END:DAYLIGHT
BEGIN:STANDARD
TZOFFSETFROM:-0700
TZOFFSETTO:-0800
TZNAME:PST
DTSTART:20241103T090000
END:STANDARD
BEGIN:DAYLIGHT
TZOFFSETFROM:-0800
TZOFFSETTO:-0700
TZNAME:PDT
DTSTART:20250309T100000
END:DAYLIGHT
BEGIN:STANDARD
TZOFFSETFROM:-0700
TZOFFSETTO:-0800
TZNAME:PST
DTSTART:20251102T090000
END:STANDARD
END:VTIMEZONE
BEGIN:VEVENT
DTSTART;TZID=America/Los_Angeles:20240203T100000
DTEND;TZID=America/Los_Angeles:20240203T120000
DTSTAMP:20260425T060626
CREATED:20240126T191025Z
LAST-MODIFIED:20240126T191025Z
UID:31794-1706954400-1706961600@fibershed.org
SUMMARY:Visible Mending Virtual Workshop
DESCRIPTION:Visible Mending is a creative way to extend the life of clothing and household items while embellishing them for a unique look. We will cover woven mends with Speedweve style looms as well as decorative embroidery including reinforcing fabric through patching and using backstitch\, split stitch\, chain stitch\, daisy stitch\, French knots\, and woven roses. \n\n\n\n\nAbout This Class \nThis workshop will take place on Zoom and registered students will receive the link two days in advance. Students will receive a handout as well as the slides shown during class\, and will have the opportunity to ask questions during the workshop. The workshop will not be recorded and students do not have permission to record it themselves\, but videos shown during class will be available to re-watch. \nMaterials Needed: Items to mend OR fabric for practicing\, embroidery hoop\, embroidery needle\, embroidery floss\, scissors\, Speedweve style mending loom\, fingering weight yarn or mending thread or sashiko thread. Optional: disappearing ink fabric marking pen. \nMaterials Kits available by mail \nPrice:$35 (low-income students $20) \n\nAbout Instructor \nKira has worked in the yarn industry since 2002\, as a yarn shop employee and later manager\, teacher\, pattern designer\, and event host. She has been embroidering since she was six and weaving for over fifteen years\, and have been practicing both invisible and visible mending since being a teenager. \n\nRegister Here\n\n\n 
URL:https://fibershed.org/event/visible-mending-virtual-workshop/
LOCATION:Virtual
CATEGORIES:fiber event,Online event,workshop
ORGANIZER;CN="Piedmont Yarn":MAILTO:kirakdesigns@gmail.com
END:VEVENT
BEGIN:VEVENT
DTSTART;TZID=America/Los_Angeles:20240206T100000
DTEND;TZID=America/Los_Angeles:20240206T123000
DTSTAMP:20260425T060626
CREATED:20240117T040401Z
LAST-MODIFIED:20240117T040401Z
UID:31768-1707213600-1707222600@fibershed.org
SUMMARY:Marin Sewing Lab
DESCRIPTION:Join Marin Sewing Lab for our 4-week session series! Unleash your creativity and enhance your stitching skills in this upcoming sewing class. Sewing Lab includes 2.5-hour class per week for 4 weeks. Bring your project whether it is a garment\, home textile\, or mending project. The instructor will guide you to get it finished and looking fantastic! \nWhether you’re a beginner or looking to refine your techniques\, we will  help guide you through each project. \nDates\nTuesday mornings \nFeb 6\, 13\, 20\, 27 \n\n10-12:30pm pst\n\nWednesday evenings \nFeb 7\, 14\, 21\, 28 \n\n6-8:30pm pst\n\nWho is teaching?\nPia Andersson is the founder and teacher at Marin Sewing Lab. She thinks that everyone should be a sewist and come to Sewing Lab! To register for a class or ask questions\, please send an email to marinsewinglab@gmail.com. All classes take place at 64 Louise Street in San Rafael. \nRegister Now\nContact marinsewinglab@gmail.com to register for classes. Learn more here.
URL:https://fibershed.org/event/marin-sewing-lab-3/
LOCATION:Marin Sewing Lab\, 64 Louise Street\, San Rafael\, CA\, United States
CATEGORIES:fiber event,workshop
END:VEVENT
BEGIN:VEVENT
DTSTART;TZID=America/Los_Angeles:20240207T180000
DTEND;TZID=America/Los_Angeles:20240207T203000
DTSTAMP:20260425T060626
CREATED:20240117T040401Z
LAST-MODIFIED:20240117T040401Z
UID:31769-1707328800-1707337800@fibershed.org
SUMMARY:Marin Sewing Lab
DESCRIPTION:Join Marin Sewing Lab for our 4-week session series! Unleash your creativity and enhance your stitching skills in this upcoming sewing class. Sewing Lab includes 2.5-hour class per week for 4 weeks. Bring your project whether it is a garment\, home textile\, or mending project. The instructor will guide you to get it finished and looking fantastic! \nWhether you’re a beginner or looking to refine your techniques\, we will  help guide you through each project. \nDates\nTuesday mornings \nFeb 6\, 13\, 20\, 27 \n\n10-12:30pm pst\n\nWednesday evenings \nFeb 7\, 14\, 21\, 28 \n\n6-8:30pm pst\n\nWho is teaching?\nPia Andersson is the founder and teacher at Marin Sewing Lab. She thinks that everyone should be a sewist and come to Sewing Lab! To register for a class or ask questions\, please send an email to marinsewinglab@gmail.com. All classes take place at 64 Louise Street in San Rafael. \nRegister Now\nContact marinsewinglab@gmail.com to register for classes. Learn more here.
URL:https://fibershed.org/event/marin-sewing-lab-3-2024-02-07/
LOCATION:Marin Sewing Lab\, 64 Louise Street\, San Rafael\, CA\, United States
CATEGORIES:fiber event,workshop
END:VEVENT
BEGIN:VEVENT
DTSTART;TZID=America/Los_Angeles:20240213T100000
DTEND;TZID=America/Los_Angeles:20240213T123000
DTSTAMP:20260425T060626
CREATED:20240117T040401Z
LAST-MODIFIED:20240117T040401Z
UID:31770-1707818400-1707827400@fibershed.org
SUMMARY:Marin Sewing Lab
DESCRIPTION:Join Marin Sewing Lab for our 4-week session series! Unleash your creativity and enhance your stitching skills in this upcoming sewing class. Sewing Lab includes 2.5-hour class per week for 4 weeks. Bring your project whether it is a garment\, home textile\, or mending project. The instructor will guide you to get it finished and looking fantastic! \nWhether you’re a beginner or looking to refine your techniques\, we will  help guide you through each project. \nDates\nTuesday mornings \nFeb 6\, 13\, 20\, 27 \n\n10-12:30pm pst\n\nWednesday evenings \nFeb 7\, 14\, 21\, 28 \n\n6-8:30pm pst\n\nWho is teaching?\nPia Andersson is the founder and teacher at Marin Sewing Lab. She thinks that everyone should be a sewist and come to Sewing Lab! To register for a class or ask questions\, please send an email to marinsewinglab@gmail.com. All classes take place at 64 Louise Street in San Rafael. \nRegister Now\nContact marinsewinglab@gmail.com to register for classes. Learn more here.
URL:https://fibershed.org/event/marin-sewing-lab-3-2024-02-13/
LOCATION:Marin Sewing Lab\, 64 Louise Street\, San Rafael\, CA\, United States
CATEGORIES:fiber event,workshop
END:VEVENT
BEGIN:VEVENT
DTSTART;TZID=America/Los_Angeles:20240214T100000
DTEND;TZID=America/Los_Angeles:20240214T123000
DTSTAMP:20260425T060626
CREATED:20240117T040401Z
LAST-MODIFIED:20240117T040401Z
UID:31771-1707904800-1707913800@fibershed.org
SUMMARY:Marin Sewing Lab
DESCRIPTION:Join Marin Sewing Lab for our 4-week session series! Unleash your creativity and enhance your stitching skills in this upcoming sewing class. Sewing Lab includes 2.5-hour class per week for 4 weeks. Bring your project whether it is a garment\, home textile\, or mending project. The instructor will guide you to get it finished and looking fantastic! \nWhether you’re a beginner or looking to refine your techniques\, we will  help guide you through each project. \nDates\nTuesday mornings \nFeb 6\, 13\, 20\, 27 \n\n10-12:30pm pst\n\nWednesday evenings \nFeb 7\, 14\, 21\, 28 \n\n6-8:30pm pst\n\nWho is teaching?\nPia Andersson is the founder and teacher at Marin Sewing Lab. She thinks that everyone should be a sewist and come to Sewing Lab! To register for a class or ask questions\, please send an email to marinsewinglab@gmail.com. All classes take place at 64 Louise Street in San Rafael. \nRegister Now\nContact marinsewinglab@gmail.com to register for classes. Learn more here.
URL:https://fibershed.org/event/marin-sewing-lab-3-2024-02-14/
LOCATION:Marin Sewing Lab\, 64 Louise Street\, San Rafael\, CA\, United States
CATEGORIES:fiber event,workshop
END:VEVENT
BEGIN:VEVENT
DTSTART;TZID=America/Los_Angeles:20240217T140000
DTEND;TZID=America/Los_Angeles:20240217T160000
DTSTAMP:20260425T060626
CREATED:20231213T031737Z
LAST-MODIFIED:20231213T031750Z
UID:31634-1708178400-1708185600@fibershed.org
SUMMARY:Laneus Shawl\, Hat or Sweater - Workshop
DESCRIPTION:The ‘Roosimine’ technique is used in Teti Lutsak’s Laneus series of patterns and creates beautiful embroidery inlays on the surface of your knitting.  This technique is not applied\, but incorporated into the work as you go.  Choose one of the Laneus patterns (there is a hat\, shawl and pullover in the series) and make your own beautiful botanical knit.  We will learn the origins and how to execute the Roosimine  and review the patterns and potential yarn choices in the first session – and then check in in the second session to review and troubleshoot.  Some familiarity with colourwork is helpful – but not essential.  No homework – we will swatch in the first class! \nRegister Here\n  \nDATES/TIMES\n2 Saturdays; January 27 and February 17\, 2024 \n2:00 – 4:00PM \n  \nLEVEL\nIntermediate – Confident with casting on. the knit and purl stitch\, reading a pattern. It helps to have experience working with two colors in the form of stripes\, but is not required. \n\nMATERIALS (not included)\nThere are so many wonderful options for this pattern! The patterns will work best with sport to light DK gauge weight yarns. Feel free to play! We’ll be swatching in class to make sure your yarn choices work well together. \nPattern Options: \nHAT \n\nUS 3 (3.25 mm) 16″ circular and DPN needles\n2 contrasting colors of sport or light DK weight yarn (or two held together as equivalent) – see sizing for yardage quantities of each color\nstitch markers\n\nSHAWL \n\nUS 7 (4.5 mm) circular and DPN needles\n2 contrasting colors of sport or light DK weight yarn (or two held together as equivalent) – see sizing for yardage quantities of each color\nstitch markers\n\nPULLOVER \n\nUS 4 (4.5 mm) circular and DPN needles\n2 contrasting colors of worsted weight yarn (or two held together as equivalent) – see sizing for yardage quantities of each color\nstitch markers\n\nHOMEWORK \n\nChoose and purchase pattern from the list above.\nVisit Fiber Circle Studio for purchasing yarn OR contact us if you already have a yarn you want to use to see if it’ll work for your chosen pattern.\n\nPlease note that this is not a class on how to knit sweaters\, so if you choose the pullover option\, it is recommended that you have previous sweater knitting experience\, plan to have additional support\, or are happy “just going for it”!  \nAges: 18+\nSkill Requirements: Confident with casting on. the knit and purl stitch\, reading a pattern. It helps to have experience working with two colors in the form of stripes\, but is not required.\nTaught by: Gayle Ravenscroft
URL:https://fibershed.org/event/laneus-shawl-2024-02-17/
LOCATION:Fiber Circle Studio\, 113 Kentucky St.\, Petaluma\, CA\, 94952\, United States
CATEGORIES:event,fiber event,workshop
ORGANIZER;CN="Fiber Circle Studio":MAILTO:alisha@fibercirclestudio.com
END:VEVENT
BEGIN:VEVENT
DTSTART;TZID=America/Los_Angeles:20240220T100000
DTEND;TZID=America/Los_Angeles:20240220T123000
DTSTAMP:20260425T060626
CREATED:20240117T040401Z
LAST-MODIFIED:20240117T040401Z
UID:31772-1708423200-1708432200@fibershed.org
SUMMARY:Marin Sewing Lab
DESCRIPTION:Join Marin Sewing Lab for our 4-week session series! Unleash your creativity and enhance your stitching skills in this upcoming sewing class. Sewing Lab includes 2.5-hour class per week for 4 weeks. Bring your project whether it is a garment\, home textile\, or mending project. The instructor will guide you to get it finished and looking fantastic! \nWhether you’re a beginner or looking to refine your techniques\, we will  help guide you through each project. \nDates\nTuesday mornings \nFeb 6\, 13\, 20\, 27 \n\n10-12:30pm pst\n\nWednesday evenings \nFeb 7\, 14\, 21\, 28 \n\n6-8:30pm pst\n\nWho is teaching?\nPia Andersson is the founder and teacher at Marin Sewing Lab. She thinks that everyone should be a sewist and come to Sewing Lab! To register for a class or ask questions\, please send an email to marinsewinglab@gmail.com. All classes take place at 64 Louise Street in San Rafael. \nRegister Now\nContact marinsewinglab@gmail.com to register for classes. Learn more here.
URL:https://fibershed.org/event/marin-sewing-lab-3-2024-02-20/
LOCATION:Marin Sewing Lab\, 64 Louise Street\, San Rafael\, CA\, United States
CATEGORIES:fiber event,workshop
END:VEVENT
BEGIN:VEVENT
DTSTART;TZID=America/Los_Angeles:20240221T100000
DTEND;TZID=America/Los_Angeles:20240221T123000
DTSTAMP:20260425T060626
CREATED:20240117T040401Z
LAST-MODIFIED:20240117T040401Z
UID:31773-1708509600-1708518600@fibershed.org
SUMMARY:Marin Sewing Lab
DESCRIPTION:Join Marin Sewing Lab for our 4-week session series! Unleash your creativity and enhance your stitching skills in this upcoming sewing class. Sewing Lab includes 2.5-hour class per week for 4 weeks. Bring your project whether it is a garment\, home textile\, or mending project. The instructor will guide you to get it finished and looking fantastic! \nWhether you’re a beginner or looking to refine your techniques\, we will  help guide you through each project. \nDates\nTuesday mornings \nFeb 6\, 13\, 20\, 27 \n\n10-12:30pm pst\n\nWednesday evenings \nFeb 7\, 14\, 21\, 28 \n\n6-8:30pm pst\n\nWho is teaching?\nPia Andersson is the founder and teacher at Marin Sewing Lab. She thinks that everyone should be a sewist and come to Sewing Lab! To register for a class or ask questions\, please send an email to marinsewinglab@gmail.com. All classes take place at 64 Louise Street in San Rafael. \nRegister Now\nContact marinsewinglab@gmail.com to register for classes. Learn more here.
URL:https://fibershed.org/event/marin-sewing-lab-3-2024-02-21/
LOCATION:Marin Sewing Lab\, 64 Louise Street\, San Rafael\, CA\, United States
CATEGORIES:fiber event,workshop
END:VEVENT
BEGIN:VEVENT
DTSTART;TZID=America/Los_Angeles:20240221T180000
DTEND;TZID=America/Los_Angeles:20240221T200000
DTSTAMP:20260425T060626
CREATED:20240126T191353Z
LAST-MODIFIED:20240126T191910Z
UID:31797-1708538400-1708545600@fibershed.org
SUMMARY:Visible Mending Classes at Piedmont Yarn in Oakland
DESCRIPTION:Visible Mending is a creative way to extend the life of your clothing and household items while embellishing them for a unique look. We will cover basic patches with running stitch as well as more decorative embroidery and woven darns. \nMaterials: embroidery hoop\, embroidery needles\, embroidery floss\, scissors. Optional: Speedweve style mending loom. We will provide fabric for practicing and/or patching\, but you can also bring your own items to mend. \nOptional: materials kits are available\, with embroidery kits (hoop\, needle\, fabric\, embroidery floss) for $10\, and options of Speedweve looms with needles and yarn for $30\, $60\, or $120. \nSkill level: No prior experience required \nLocation \nPiedmont Yarn in Oakland\, CA \nSchedule \nFebruary 21\, 2024 \n6-8pm PST \nMarch 9\, 2024 \n1:30-3:30pm \nAbout Instructor \nKira Dulaney has been teaching fiber arts classes and hosting crafty events in the San Francisco Bay Area and beyond since 2002. As a teacher\, her focus is on providing valuable information in a stress-free environment and supporting students through the learning process. She is also the designer behind Kira K Designs\, a line of original knitting and crochet patterns and kits featuring clean lines and intriguing details that are both interesting to make and easy to wear. Kira has taught at Estes Park Wool Market\, Interweave Yarn Fest\, Lambtown Festival\, the Natural Fiber Fair\, Maryland Sheep and Wool Festival\, Stitches events\, and TNNA\, as well as numerous guilds and yarn shops. \nRegister Here
URL:https://fibershed.org/event/visible-mending-classes-at-piedmont-yarn-in-oakland/
LOCATION:Piedmont Yarn\, 4171 Piedmont Ave #102\, Oakland\, United States
CATEGORIES:class,fiber event,mending,workshop
ORGANIZER;CN="Piedmont Yarn":MAILTO:kirakdesigns@gmail.com
END:VEVENT
BEGIN:VEVENT
DTSTART;TZID=America/Los_Angeles:20240227T100000
DTEND;TZID=America/Los_Angeles:20240227T123000
DTSTAMP:20260425T060626
CREATED:20240117T040401Z
LAST-MODIFIED:20240117T040401Z
UID:31774-1709028000-1709037000@fibershed.org
SUMMARY:Marin Sewing Lab
DESCRIPTION:Join Marin Sewing Lab for our 4-week session series! Unleash your creativity and enhance your stitching skills in this upcoming sewing class. Sewing Lab includes 2.5-hour class per week for 4 weeks. Bring your project whether it is a garment\, home textile\, or mending project. The instructor will guide you to get it finished and looking fantastic! \nWhether you’re a beginner or looking to refine your techniques\, we will  help guide you through each project. \nDates\nTuesday mornings \nFeb 6\, 13\, 20\, 27 \n\n10-12:30pm pst\n\nWednesday evenings \nFeb 7\, 14\, 21\, 28 \n\n6-8:30pm pst\n\nWho is teaching?\nPia Andersson is the founder and teacher at Marin Sewing Lab. She thinks that everyone should be a sewist and come to Sewing Lab! To register for a class or ask questions\, please send an email to marinsewinglab@gmail.com. All classes take place at 64 Louise Street in San Rafael. \nRegister Now\nContact marinsewinglab@gmail.com to register for classes. Learn more here.
URL:https://fibershed.org/event/marin-sewing-lab-3-2024-02-27/
LOCATION:Marin Sewing Lab\, 64 Louise Street\, San Rafael\, CA\, United States
CATEGORIES:fiber event,workshop
END:VEVENT
BEGIN:VEVENT
DTSTART;TZID=America/Los_Angeles:20240228T100000
DTEND;TZID=America/Los_Angeles:20240228T123000
DTSTAMP:20260425T060626
CREATED:20240117T040401Z
LAST-MODIFIED:20240117T040401Z
UID:31775-1709114400-1709123400@fibershed.org
SUMMARY:Marin Sewing Lab
DESCRIPTION:Join Marin Sewing Lab for our 4-week session series! Unleash your creativity and enhance your stitching skills in this upcoming sewing class. Sewing Lab includes 2.5-hour class per week for 4 weeks. Bring your project whether it is a garment\, home textile\, or mending project. The instructor will guide you to get it finished and looking fantastic! \nWhether you’re a beginner or looking to refine your techniques\, we will  help guide you through each project. \nDates\nTuesday mornings \nFeb 6\, 13\, 20\, 27 \n\n10-12:30pm pst\n\nWednesday evenings \nFeb 7\, 14\, 21\, 28 \n\n6-8:30pm pst\n\nWho is teaching?\nPia Andersson is the founder and teacher at Marin Sewing Lab. She thinks that everyone should be a sewist and come to Sewing Lab! To register for a class or ask questions\, please send an email to marinsewinglab@gmail.com. All classes take place at 64 Louise Street in San Rafael. \nRegister Now\nContact marinsewinglab@gmail.com to register for classes. Learn more here.
URL:https://fibershed.org/event/marin-sewing-lab-3-2024-02-28/
LOCATION:Marin Sewing Lab\, 64 Louise Street\, San Rafael\, CA\, United States
CATEGORIES:fiber event,workshop
END:VEVENT
END:VCALENDAR