BEGIN:VCALENDAR
VERSION:2.0
PRODID:-//Fibershed - ECPv6.15.20//NONSGML v1.0//EN
CALSCALE:GREGORIAN
METHOD:PUBLISH
X-WR-CALNAME:Fibershed
X-ORIGINAL-URL:https://fibershed.org
X-WR-CALDESC:Events for Fibershed
REFRESH-INTERVAL;VALUE=DURATION:PT1H
X-Robots-Tag:noindex
X-PUBLISHED-TTL:PT1H
BEGIN:VTIMEZONE
TZID:America/Los_Angeles
BEGIN:DAYLIGHT
TZOFFSETFROM:-0800
TZOFFSETTO:-0700
TZNAME:PDT
DTSTART:20230312T100000
END:DAYLIGHT
BEGIN:STANDARD
TZOFFSETFROM:-0700
TZOFFSETTO:-0800
TZNAME:PST
DTSTART:20231105T090000
END:STANDARD
BEGIN:DAYLIGHT
TZOFFSETFROM:-0800
TZOFFSETTO:-0700
TZNAME:PDT
DTSTART:20240310T100000
END:DAYLIGHT
BEGIN:STANDARD
TZOFFSETFROM:-0700
TZOFFSETTO:-0800
TZNAME:PST
DTSTART:20241103T090000
END:STANDARD
BEGIN:DAYLIGHT
TZOFFSETFROM:-0800
TZOFFSETTO:-0700
TZNAME:PDT
DTSTART:20250309T100000
END:DAYLIGHT
BEGIN:STANDARD
TZOFFSETFROM:-0700
TZOFFSETTO:-0800
TZNAME:PST
DTSTART:20251102T090000
END:STANDARD
END:VTIMEZONE
BEGIN:VEVENT
DTSTART;TZID=America/Los_Angeles:20240309T133000
DTEND;TZID=America/Los_Angeles:20240309T153000
DTSTAMP:20260425T043536
CREATED:20240126T191353Z
LAST-MODIFIED:20240126T191911Z
UID:31800-1709991000-1709998200@fibershed.org
SUMMARY:Visible Mending Classes at Piedmont Yarn in Oakland
DESCRIPTION:Visible Mending is a creative way to extend the life of your clothing and household items while embellishing them for a unique look. We will cover basic patches with running stitch as well as more decorative embroidery and woven darns. \nMaterials: embroidery hoop\, embroidery needles\, embroidery floss\, scissors. Optional: Speedweve style mending loom. We will provide fabric for practicing and/or patching\, but you can also bring your own items to mend. \nOptional: materials kits are available\, with embroidery kits (hoop\, needle\, fabric\, embroidery floss) for $10\, and options of Speedweve looms with needles and yarn for $30\, $60\, or $120. \nSkill level: No prior experience required \nLocation \nPiedmont Yarn in Oakland\, CA \nSchedule \nFebruary 21\, 2024 \n6-8pm PST \nMarch 9\, 2024 \n1:30-3:30pm \nAbout Instructor \nKira Dulaney has been teaching fiber arts classes and hosting crafty events in the San Francisco Bay Area and beyond since 2002. As a teacher\, her focus is on providing valuable information in a stress-free environment and supporting students through the learning process. She is also the designer behind Kira K Designs\, a line of original knitting and crochet patterns and kits featuring clean lines and intriguing details that are both interesting to make and easy to wear. Kira has taught at Estes Park Wool Market\, Interweave Yarn Fest\, Lambtown Festival\, the Natural Fiber Fair\, Maryland Sheep and Wool Festival\, Stitches events\, and TNNA\, as well as numerous guilds and yarn shops. \nRegister Here
URL:https://fibershed.org/event/visible-mending-classes-at-piedmont-yarn-in-oakland-2024-03-09/
LOCATION:Piedmont Yarn\, 4171 Piedmont Ave #102\, Oakland\, United States
CATEGORIES:class,fiber event,mending,workshop
ORGANIZER;CN="Piedmont Yarn":MAILTO:kirakdesigns@gmail.com
END:VEVENT
END:VCALENDAR