BEGIN:VCALENDAR
VERSION:2.0
PRODID:-//Fibershed - ECPv6.15.20//NONSGML v1.0//EN
CALSCALE:GREGORIAN
METHOD:PUBLISH
X-WR-CALNAME:Fibershed
X-ORIGINAL-URL:https://fibershed.org
X-WR-CALDESC:Events for Fibershed
REFRESH-INTERVAL;VALUE=DURATION:PT1H
X-Robots-Tag:noindex
X-PUBLISHED-TTL:PT1H
BEGIN:VTIMEZONE
TZID:America/Los_Angeles
BEGIN:DAYLIGHT
TZOFFSETFROM:-0800
TZOFFSETTO:-0700
TZNAME:PDT
DTSTART:20230312T100000
END:DAYLIGHT
BEGIN:STANDARD
TZOFFSETFROM:-0700
TZOFFSETTO:-0800
TZNAME:PST
DTSTART:20231105T090000
END:STANDARD
BEGIN:DAYLIGHT
TZOFFSETFROM:-0800
TZOFFSETTO:-0700
TZNAME:PDT
DTSTART:20240310T100000
END:DAYLIGHT
BEGIN:STANDARD
TZOFFSETFROM:-0700
TZOFFSETTO:-0800
TZNAME:PST
DTSTART:20241103T090000
END:STANDARD
BEGIN:DAYLIGHT
TZOFFSETFROM:-0800
TZOFFSETTO:-0700
TZNAME:PDT
DTSTART:20250309T100000
END:DAYLIGHT
BEGIN:STANDARD
TZOFFSETFROM:-0700
TZOFFSETTO:-0800
TZNAME:PST
DTSTART:20251102T090000
END:STANDARD
END:VTIMEZONE
BEGIN:VEVENT
DTSTART;TZID=America/Los_Angeles:20240601T100000
DTEND;TZID=America/Los_Angeles:20240601T160000
DTSTAMP:20260421T042141
CREATED:20240220T013624Z
LAST-MODIFIED:20240401T005415Z
UID:31864-1717236000-1717257600@fibershed.org
SUMMARY:Making a Cheese Curd Molding Basket with Charlie Kennard
DESCRIPTION:Join us at the beautiful Fibershed Learning Center on Black Mountain Ranch near Point Reyes Station\, CA\, where we will learn to make a southern Italian-style fiscelle (curd drainers) of rush (Juncus)\, that leave the basket’s impression on the cheese—including the unusual iris diaphragm pattern on the bottom. We will sample ricotta salata\, and make curds to place in a basket mold. \nExperience with twining is very helpful; beginners may make a simpler basket. Experience with twining is very helpful; beginners may make a simpler basket. \nParticipants must bring: scissors\, water bowl plus any personal snacks\, lunch and beverages. \nMaximum 12 students. \n  \nRegister Here\n_ _ _ _ _ _ _ _ _ _ \nFibershed Scholarship Program for Tuition Scholarships & Transportation/Childcare Stipends \nFibershed is offering one scholarship per workshop. If you would not otherwise be able to attend\, and would like to be considered as a scholarship recipient\, please answer a few brief questions on our Scholarship Application. Responses will be reviewed by Learning Center staff and kept strictly confidential. \n_ _ _ _ _ _ _ _ _ _ \nPlease keep your pets at home as we have livestock onsite. Service dogs are permitted. \n\n\n\n\nCharlie Kennard of San Anselmo is a long-time basket weaver and student of California Indian and other traditional basketry techniques of the world. He has taught for the Point Reyes Field Institute\, East Bay Regional Parks Botanic Garden\, Fibershed\, the Laguna Center and in many schools and at teacher trainings. Tule boats made in his workshops can be seen at the Bay Model in Sausalito\, Lake County Museum\, and another is in the collection of the Oakland Museum. You can also visit a basketry plant garden Charlie has created at the Marin Art and Garden Center in Ross. Charlie is active in native habitat restoration in Marin\, managing several projects for Friends of Corte Madera Creek Watershed. \n\n\n\n\nTatza photo courtesy of Charlie Kennard\, portrait of Charlie by Paige Green
URL:https://fibershed.org/event/making-a-cheese-curd-molding-basket-with-charlie-kennard/
LOCATION:Fibershed Learning Center\, 14000 Pt. Reyes - Petaluma Rd\, Point Reyes Station\, CA\, 94956\, United States
CATEGORIES:fibershed affiliate event,workshop
ORGANIZER;CN="Fibershed":MAILTO:hello@fibershed.org
END:VEVENT
END:VCALENDAR