BEGIN:VCALENDAR
VERSION:2.0
PRODID:-//Fibershed - ECPv6.15.20//NONSGML v1.0//EN
CALSCALE:GREGORIAN
METHOD:PUBLISH
X-WR-CALNAME:Fibershed
X-ORIGINAL-URL:https://fibershed.org
X-WR-CALDESC:Events for Fibershed
REFRESH-INTERVAL;VALUE=DURATION:PT1H
X-Robots-Tag:noindex
X-PUBLISHED-TTL:PT1H
BEGIN:VTIMEZONE
TZID:America/Los_Angeles
BEGIN:DAYLIGHT
TZOFFSETFROM:-0800
TZOFFSETTO:-0700
TZNAME:PDT
DTSTART:20250309T100000
END:DAYLIGHT
BEGIN:STANDARD
TZOFFSETFROM:-0700
TZOFFSETTO:-0800
TZNAME:PST
DTSTART:20251102T090000
END:STANDARD
BEGIN:DAYLIGHT
TZOFFSETFROM:-0800
TZOFFSETTO:-0700
TZNAME:PDT
DTSTART:20260308T100000
END:DAYLIGHT
BEGIN:STANDARD
TZOFFSETFROM:-0700
TZOFFSETTO:-0800
TZNAME:PST
DTSTART:20261101T090000
END:STANDARD
BEGIN:DAYLIGHT
TZOFFSETFROM:-0800
TZOFFSETTO:-0700
TZNAME:PDT
DTSTART:20270314T100000
END:DAYLIGHT
BEGIN:STANDARD
TZOFFSETFROM:-0700
TZOFFSETTO:-0800
TZNAME:PST
DTSTART:20271107T090000
END:STANDARD
END:VTIMEZONE
BEGIN:VEVENT
DTSTART;TZID=America/Los_Angeles:20260501T133000
DTEND;TZID=America/Los_Angeles:20260501T160000
DTSTAMP:20260422T105358
CREATED:20260410T041220Z
LAST-MODIFIED:20260410T041220Z
UID:33548-1777642200-1777651200@fibershed.org
SUMMARY:Fibershed Garden Volunteer Day with Rebecca Burgess
DESCRIPTION:What you’ll be doing:  We will continue to remove non-native and invasive plants and care for our ever-growing gardens and pathways.\nHow to sign up: Email Rhonda Kutter (rhonda@fibershed.org) or call (415-250-1699) to sign up and you will receive a confirmation and updates!\nWhere: Fibershed Learning Center\, 14000 Point Reyes – Petaluma Road (please park carefully along the driveway under our redwood trees\, next to the garden).\nWhat to bring: Layers\, sturdy shoes (they may get muddy)\, hat\, gloves\, a personal snack and water bottle.\nNote: Rains may require us to reschedule the event. We will notify all registered volunteers of any changes. Please keep your pets at home–this is a working farm. \nCome enjoy our garden and the great company! We deeply appreciate your help – every hand makes a difference! 
URL:https://fibershed.org/event/fibershed-garden-volunteer-day-with-rebecca-burgess-9/
LOCATION:Fibershed Learning Center\, 14000 Pt. Reyes - Petaluma Rd\, Point Reyes Station\, CA\, 94956\, United States
CATEGORIES:gardening,volunteer day
ORGANIZER;CN="Fibershed Learning Center":MAILTO:rhonda@fibershed.org
END:VEVENT
END:VCALENDAR