BEGIN:VCALENDAR
VERSION:2.0
PRODID:-//Fibershed - ECPv6.15.20//NONSGML v1.0//EN
CALSCALE:GREGORIAN
METHOD:PUBLISH
X-WR-CALNAME:Fibershed
X-ORIGINAL-URL:https://fibershed.org
X-WR-CALDESC:Events for Fibershed
REFRESH-INTERVAL;VALUE=DURATION:PT1H
X-Robots-Tag:noindex
X-PUBLISHED-TTL:PT1H
BEGIN:VTIMEZONE
TZID:America/Los_Angeles
BEGIN:DAYLIGHT
TZOFFSETFROM:-0800
TZOFFSETTO:-0700
TZNAME:PDT
DTSTART:20250309T100000
END:DAYLIGHT
BEGIN:STANDARD
TZOFFSETFROM:-0700
TZOFFSETTO:-0800
TZNAME:PST
DTSTART:20251102T090000
END:STANDARD
BEGIN:DAYLIGHT
TZOFFSETFROM:-0800
TZOFFSETTO:-0700
TZNAME:PDT
DTSTART:20260308T100000
END:DAYLIGHT
BEGIN:STANDARD
TZOFFSETFROM:-0700
TZOFFSETTO:-0800
TZNAME:PST
DTSTART:20261101T090000
END:STANDARD
BEGIN:DAYLIGHT
TZOFFSETFROM:-0800
TZOFFSETTO:-0700
TZNAME:PDT
DTSTART:20270314T100000
END:DAYLIGHT
BEGIN:STANDARD
TZOFFSETFROM:-0700
TZOFFSETTO:-0800
TZNAME:PST
DTSTART:20271107T090000
END:STANDARD
BEGIN:DAYLIGHT
TZOFFSETFROM:-0800
TZOFFSETTO:-0700
TZNAME:PDT
DTSTART:20280312T100000
END:DAYLIGHT
BEGIN:STANDARD
TZOFFSETFROM:-0700
TZOFFSETTO:-0800
TZNAME:PST
DTSTART:20281105T090000
END:STANDARD
END:VTIMEZONE
BEGIN:VEVENT
DTSTART;TZID=America/Los_Angeles:20260627T140000
DTEND;TZID=America/Los_Angeles:20260627T160000
DTSTAMP:20260422T074321
CREATED:20260224T045155Z
LAST-MODIFIED:20260407T213952Z
UID:33468-1782568800-1782576000@fibershed.org
SUMMARY:Wildcrafternoon Children's Workshop
DESCRIPTION:Saturdays Series this Spring! \nJoin us at the Fibershed Learning Center for a nature-based crafting workshop series\, led by nature-based educator Èské Addams and designed especially for young learners\, age 7 and up. This is a great opportunity for your child to learn various nature-based crafting skills and to engage directly with different types of organic materials and hand tools. \n🌿 Dates & Workshop Activity Lineup: These Saturdays will be monthly–please sign up separately for each event via Eventbrite: \n\n📜 February 28: Making Paper\, Seedballs\, & Paper-pulp Sculptures\,\n📚 March 28: Bookbinding & Nature journaling\,\n🍂 April 18: Flower pressing & Nature collages\,\n🧺 May 30: Basket & Cordage weaving\,\n🍃 June 27: Eco-printing & Plant dyeing\,\n\n🌿Registration: While most other Fibershed workshops use a need-based scholarship application fee structure\, this workshop series uses a self-reporting sliding-scale approach (based on the Green Bottle model)\, which was personally designed by the teacher and is used in all of her educational offerings. \nMaximum 10 students per workshop\, so reserve your child’s spot via our June 27th Evenbrite listing  (fees are included in the ticket cost to maximize access for all). \nTravel / Childcare Assistance: Fibershed offers limited assistance for travel and/or childcare. If you would not otherwise be able to attend a workshop due to transportation challenges or limited resources as a parent\, please apply for our Accessibility Assistance application. \nQuestions?: Email LearningCenter@fibershed.org.
URL:https://fibershed.org/event/wildcrafternoon-childrens-workshop-series-4/
LOCATION:Fibershed Learning Center\, 14000 Pt. Reyes - Petaluma Rd\, Point Reyes Station\, CA\, 94956\, United States
CATEGORIES:children's,class,workshop
ORGANIZER;CN="Fibershed":MAILTO:hello@fibershed.org
END:VEVENT
BEGIN:VEVENT
DTSTART;TZID=America/Los_Angeles:20260712T110000
DTEND;TZID=America/Los_Angeles:20260712T150000
DTSTAMP:20260422T074321
CREATED:20231213T020532Z
LAST-MODIFIED:20231213T020532Z
UID:32624-1783854000-1783868400@fibershed.org
SUMMARY:Redding Mending Circle
DESCRIPTION:Join us for this monthly mending circle\, hosted by Marie Hoff of Full Circle Wool\, at the F.A.R.M learning space in Redding.  This is a casual drop-in gathering\, not a workshop\, so feel free to stop by with your project and mend/chat/even get feedback from others if desired.  Not limited to mending\, any and all handcrafts are welcome.  We may have some scrap fabrics on hand\, but otherwise bring your own materials.  There will be snacks\, beverages\, and good company. \nFor questions\, to RSVP\, or to be added to the email list\, please email Marie at admin@fullcirclewool.com \n  \nSchedule \nSecond Sunday of Each Month – starting March 9\, 2025. \n11:00 am – 3pm \n  \nLocation \nThe F.A.R.M Redding \n1416 Yuba St \nRedding\, CA 96001 \n  \nAbout Full Circle Wool \nFull Circle Wool began in 2013 with the start of Capella Grazing Project. Conceived and operated by Marie Hoff\, Capella Grazing Project integrates heritage breed Ouessant sheep with landscapes in need of the service of grazing\, such as vineyards\, orchards\, and private property seeking fire prevention and brush management.
URL:https://fibershed.org/event/redding-mending-circle-2026-07-12/
LOCATION:The F.A.R.M\, 1416 Yuba St\, Redding\, 96001\, United States
CATEGORIES:event,meeting,mending
ATTACH;FMTTYPE=image/jpeg:https://fibershed.org/wp-content/uploads/2023/12/After-scaled.jpg
ORGANIZER;CN="Full Circle Wool":MAILTO:admin@fullcirclewool.com
END:VEVENT
BEGIN:VEVENT
DTSTART;TZID=America/Los_Angeles:20260809T110000
DTEND;TZID=America/Los_Angeles:20260809T150000
DTSTAMP:20260422T074321
CREATED:20231213T020532Z
LAST-MODIFIED:20231213T020532Z
UID:32625-1786273200-1786287600@fibershed.org
SUMMARY:Redding Mending Circle
DESCRIPTION:Join us for this monthly mending circle\, hosted by Marie Hoff of Full Circle Wool\, at the F.A.R.M learning space in Redding.  This is a casual drop-in gathering\, not a workshop\, so feel free to stop by with your project and mend/chat/even get feedback from others if desired.  Not limited to mending\, any and all handcrafts are welcome.  We may have some scrap fabrics on hand\, but otherwise bring your own materials.  There will be snacks\, beverages\, and good company. \nFor questions\, to RSVP\, or to be added to the email list\, please email Marie at admin@fullcirclewool.com \n  \nSchedule \nSecond Sunday of Each Month – starting March 9\, 2025. \n11:00 am – 3pm \n  \nLocation \nThe F.A.R.M Redding \n1416 Yuba St \nRedding\, CA 96001 \n  \nAbout Full Circle Wool \nFull Circle Wool began in 2013 with the start of Capella Grazing Project. Conceived and operated by Marie Hoff\, Capella Grazing Project integrates heritage breed Ouessant sheep with landscapes in need of the service of grazing\, such as vineyards\, orchards\, and private property seeking fire prevention and brush management.
URL:https://fibershed.org/event/redding-mending-circle-2026-08-09/
LOCATION:The F.A.R.M\, 1416 Yuba St\, Redding\, 96001\, United States
CATEGORIES:event,meeting,mending
ATTACH;FMTTYPE=image/jpeg:https://fibershed.org/wp-content/uploads/2023/12/After-scaled.jpg
ORGANIZER;CN="Full Circle Wool":MAILTO:admin@fullcirclewool.com
END:VEVENT
BEGIN:VEVENT
DTSTART;TZID=America/Los_Angeles:20260913T110000
DTEND;TZID=America/Los_Angeles:20260913T150000
DTSTAMP:20260422T074321
CREATED:20231213T020532Z
LAST-MODIFIED:20231213T020532Z
UID:32626-1789297200-1789311600@fibershed.org
SUMMARY:Redding Mending Circle
DESCRIPTION:Join us for this monthly mending circle\, hosted by Marie Hoff of Full Circle Wool\, at the F.A.R.M learning space in Redding.  This is a casual drop-in gathering\, not a workshop\, so feel free to stop by with your project and mend/chat/even get feedback from others if desired.  Not limited to mending\, any and all handcrafts are welcome.  We may have some scrap fabrics on hand\, but otherwise bring your own materials.  There will be snacks\, beverages\, and good company. \nFor questions\, to RSVP\, or to be added to the email list\, please email Marie at admin@fullcirclewool.com \n  \nSchedule \nSecond Sunday of Each Month – starting March 9\, 2025. \n11:00 am – 3pm \n  \nLocation \nThe F.A.R.M Redding \n1416 Yuba St \nRedding\, CA 96001 \n  \nAbout Full Circle Wool \nFull Circle Wool began in 2013 with the start of Capella Grazing Project. Conceived and operated by Marie Hoff\, Capella Grazing Project integrates heritage breed Ouessant sheep with landscapes in need of the service of grazing\, such as vineyards\, orchards\, and private property seeking fire prevention and brush management.
URL:https://fibershed.org/event/redding-mending-circle-2026-09-13/
LOCATION:The F.A.R.M\, 1416 Yuba St\, Redding\, 96001\, United States
CATEGORIES:event,meeting,mending
ATTACH;FMTTYPE=image/jpeg:https://fibershed.org/wp-content/uploads/2023/12/After-scaled.jpg
ORGANIZER;CN="Full Circle Wool":MAILTO:admin@fullcirclewool.com
END:VEVENT
BEGIN:VEVENT
DTSTART;TZID=America/Los_Angeles:20261011T110000
DTEND;TZID=America/Los_Angeles:20261011T150000
DTSTAMP:20260422T074321
CREATED:20231213T020532Z
LAST-MODIFIED:20231213T020532Z
UID:32627-1791716400-1791730800@fibershed.org
SUMMARY:Redding Mending Circle
DESCRIPTION:Join us for this monthly mending circle\, hosted by Marie Hoff of Full Circle Wool\, at the F.A.R.M learning space in Redding.  This is a casual drop-in gathering\, not a workshop\, so feel free to stop by with your project and mend/chat/even get feedback from others if desired.  Not limited to mending\, any and all handcrafts are welcome.  We may have some scrap fabrics on hand\, but otherwise bring your own materials.  There will be snacks\, beverages\, and good company. \nFor questions\, to RSVP\, or to be added to the email list\, please email Marie at admin@fullcirclewool.com \n  \nSchedule \nSecond Sunday of Each Month – starting March 9\, 2025. \n11:00 am – 3pm \n  \nLocation \nThe F.A.R.M Redding \n1416 Yuba St \nRedding\, CA 96001 \n  \nAbout Full Circle Wool \nFull Circle Wool began in 2013 with the start of Capella Grazing Project. Conceived and operated by Marie Hoff\, Capella Grazing Project integrates heritage breed Ouessant sheep with landscapes in need of the service of grazing\, such as vineyards\, orchards\, and private property seeking fire prevention and brush management.
URL:https://fibershed.org/event/redding-mending-circle-2026-10-11/
LOCATION:The F.A.R.M\, 1416 Yuba St\, Redding\, 96001\, United States
CATEGORIES:event,meeting,mending
ATTACH;FMTTYPE=image/jpeg:https://fibershed.org/wp-content/uploads/2023/12/After-scaled.jpg
ORGANIZER;CN="Full Circle Wool":MAILTO:admin@fullcirclewool.com
END:VEVENT
BEGIN:VEVENT
DTSTART;TZID=America/Los_Angeles:20261107T100000
DTEND;TZID=America/Los_Angeles:20261107T150000
DTSTAMP:20260422T074321
CREATED:20260205T021109Z
LAST-MODIFIED:20260205T165406Z
UID:33408-1794045600-1794063600@fibershed.org
SUMMARY:Fibershed's Winter Market 2026
DESCRIPTION:Join us at Fibershed’s Winter Market in downtown Point Reyes Station! Find locally-grown\, naturally-dyed\, and minimally-processed goods from across the Northern California region. \n~ Engage with over 25 vendors\, from local farmers\, ranchers\, and artisans engaged in the natural fiber ecosystem. \n~ Purchase gifts for family and friends\, and get inspired for your next project by the offerings of the local landscape! \nEveryone is welcome — no admission fee — enjoy local music\, tea and snacks too! \n~Stay tuned to learn who will be our 2026 Vendors!~\nDate: Saturday November 7\, 2026 10am-3pm\nLocation: Dance Palace\, 503 B Street\, Point Reyes Station\, CA
URL:https://fibershed.org/event/fibersheds-winter-market-2026/
LOCATION:Dance Palace\, 503 B Street\, Point Reyes Station\, CA\, 94956\, United States
CATEGORIES:event,family event,farmer's market,fiber art sales,market
ORGANIZER;CN="Fibershed Learning Center":MAILTO:rhonda@fibershed.org
END:VEVENT
BEGIN:VEVENT
DTSTART;TZID=America/Los_Angeles:20261108T110000
DTEND;TZID=America/Los_Angeles:20261108T150000
DTSTAMP:20260422T074321
CREATED:20231213T020532Z
LAST-MODIFIED:20231213T020532Z
UID:32628-1794135600-1794150000@fibershed.org
SUMMARY:Redding Mending Circle
DESCRIPTION:Join us for this monthly mending circle\, hosted by Marie Hoff of Full Circle Wool\, at the F.A.R.M learning space in Redding.  This is a casual drop-in gathering\, not a workshop\, so feel free to stop by with your project and mend/chat/even get feedback from others if desired.  Not limited to mending\, any and all handcrafts are welcome.  We may have some scrap fabrics on hand\, but otherwise bring your own materials.  There will be snacks\, beverages\, and good company. \nFor questions\, to RSVP\, or to be added to the email list\, please email Marie at admin@fullcirclewool.com \n  \nSchedule \nSecond Sunday of Each Month – starting March 9\, 2025. \n11:00 am – 3pm \n  \nLocation \nThe F.A.R.M Redding \n1416 Yuba St \nRedding\, CA 96001 \n  \nAbout Full Circle Wool \nFull Circle Wool began in 2013 with the start of Capella Grazing Project. Conceived and operated by Marie Hoff\, Capella Grazing Project integrates heritage breed Ouessant sheep with landscapes in need of the service of grazing\, such as vineyards\, orchards\, and private property seeking fire prevention and brush management.
URL:https://fibershed.org/event/redding-mending-circle-2026-11-08/
LOCATION:The F.A.R.M\, 1416 Yuba St\, Redding\, 96001\, United States
CATEGORIES:event,meeting,mending
ATTACH;FMTTYPE=image/jpeg:https://fibershed.org/wp-content/uploads/2023/12/After-scaled.jpg
ORGANIZER;CN="Full Circle Wool":MAILTO:admin@fullcirclewool.com
END:VEVENT
BEGIN:VEVENT
DTSTART;TZID=America/Los_Angeles:20261213T110000
DTEND;TZID=America/Los_Angeles:20261213T150000
DTSTAMP:20260422T074321
CREATED:20231213T020532Z
LAST-MODIFIED:20231213T020532Z
UID:32722-1797159600-1797174000@fibershed.org
SUMMARY:Redding Mending Circle
DESCRIPTION:Join us for this monthly mending circle\, hosted by Marie Hoff of Full Circle Wool\, at the F.A.R.M learning space in Redding.  This is a casual drop-in gathering\, not a workshop\, so feel free to stop by with your project and mend/chat/even get feedback from others if desired.  Not limited to mending\, any and all handcrafts are welcome.  We may have some scrap fabrics on hand\, but otherwise bring your own materials.  There will be snacks\, beverages\, and good company. \nFor questions\, to RSVP\, or to be added to the email list\, please email Marie at admin@fullcirclewool.com \n  \nSchedule \nSecond Sunday of Each Month – starting March 9\, 2025. \n11:00 am – 3pm \n  \nLocation \nThe F.A.R.M Redding \n1416 Yuba St \nRedding\, CA 96001 \n  \nAbout Full Circle Wool \nFull Circle Wool began in 2013 with the start of Capella Grazing Project. Conceived and operated by Marie Hoff\, Capella Grazing Project integrates heritage breed Ouessant sheep with landscapes in need of the service of grazing\, such as vineyards\, orchards\, and private property seeking fire prevention and brush management.
URL:https://fibershed.org/event/redding-mending-circle-2026-12-13/
LOCATION:The F.A.R.M\, 1416 Yuba St\, Redding\, 96001\, United States
CATEGORIES:event,meeting,mending
ATTACH;FMTTYPE=image/jpeg:https://fibershed.org/wp-content/uploads/2023/12/After-scaled.jpg
ORGANIZER;CN="Full Circle Wool":MAILTO:admin@fullcirclewool.com
END:VEVENT
BEGIN:VEVENT
DTSTART;TZID=America/Los_Angeles:20270110T110000
DTEND;TZID=America/Los_Angeles:20270110T150000
DTSTAMP:20260422T074321
CREATED:20231213T020532Z
LAST-MODIFIED:20231213T020532Z
UID:32723-1799578800-1799593200@fibershed.org
SUMMARY:Redding Mending Circle
DESCRIPTION:Join us for this monthly mending circle\, hosted by Marie Hoff of Full Circle Wool\, at the F.A.R.M learning space in Redding.  This is a casual drop-in gathering\, not a workshop\, so feel free to stop by with your project and mend/chat/even get feedback from others if desired.  Not limited to mending\, any and all handcrafts are welcome.  We may have some scrap fabrics on hand\, but otherwise bring your own materials.  There will be snacks\, beverages\, and good company. \nFor questions\, to RSVP\, or to be added to the email list\, please email Marie at admin@fullcirclewool.com \n  \nSchedule \nSecond Sunday of Each Month – starting March 9\, 2025. \n11:00 am – 3pm \n  \nLocation \nThe F.A.R.M Redding \n1416 Yuba St \nRedding\, CA 96001 \n  \nAbout Full Circle Wool \nFull Circle Wool began in 2013 with the start of Capella Grazing Project. Conceived and operated by Marie Hoff\, Capella Grazing Project integrates heritage breed Ouessant sheep with landscapes in need of the service of grazing\, such as vineyards\, orchards\, and private property seeking fire prevention and brush management.
URL:https://fibershed.org/event/redding-mending-circle-2027-01-10/
LOCATION:The F.A.R.M\, 1416 Yuba St\, Redding\, 96001\, United States
CATEGORIES:event,meeting,mending
ATTACH;FMTTYPE=image/jpeg:https://fibershed.org/wp-content/uploads/2023/12/After-scaled.jpg
ORGANIZER;CN="Full Circle Wool":MAILTO:admin@fullcirclewool.com
END:VEVENT
BEGIN:VEVENT
DTSTART;TZID=America/Los_Angeles:20270214T110000
DTEND;TZID=America/Los_Angeles:20270214T150000
DTSTAMP:20260422T074321
CREATED:20231213T020532Z
LAST-MODIFIED:20231213T020532Z
UID:32675-1802602800-1802617200@fibershed.org
SUMMARY:Redding Mending Circle
DESCRIPTION:Join us for this monthly mending circle\, hosted by Marie Hoff of Full Circle Wool\, at the F.A.R.M learning space in Redding.  This is a casual drop-in gathering\, not a workshop\, so feel free to stop by with your project and mend/chat/even get feedback from others if desired.  Not limited to mending\, any and all handcrafts are welcome.  We may have some scrap fabrics on hand\, but otherwise bring your own materials.  There will be snacks\, beverages\, and good company. \nFor questions\, to RSVP\, or to be added to the email list\, please email Marie at admin@fullcirclewool.com \n  \nSchedule \nSecond Sunday of Each Month – starting March 9\, 2025. \n11:00 am – 3pm \n  \nLocation \nThe F.A.R.M Redding \n1416 Yuba St \nRedding\, CA 96001 \n  \nAbout Full Circle Wool \nFull Circle Wool began in 2013 with the start of Capella Grazing Project. Conceived and operated by Marie Hoff\, Capella Grazing Project integrates heritage breed Ouessant sheep with landscapes in need of the service of grazing\, such as vineyards\, orchards\, and private property seeking fire prevention and brush management.
URL:https://fibershed.org/event/redding-mending-circle-2027-02-14/
LOCATION:The F.A.R.M\, 1416 Yuba St\, Redding\, 96001\, United States
CATEGORIES:event,meeting,mending
ATTACH;FMTTYPE=image/jpeg:https://fibershed.org/wp-content/uploads/2023/12/After-scaled.jpg
ORGANIZER;CN="Full Circle Wool":MAILTO:admin@fullcirclewool.com
END:VEVENT
BEGIN:VEVENT
DTSTART;TZID=America/Los_Angeles:20270314T110000
DTEND;TZID=America/Los_Angeles:20270314T150000
DTSTAMP:20260422T074321
CREATED:20231213T020532Z
LAST-MODIFIED:20231213T020532Z
UID:32762-1805022000-1805036400@fibershed.org
SUMMARY:Redding Mending Circle
DESCRIPTION:Join us for this monthly mending circle\, hosted by Marie Hoff of Full Circle Wool\, at the F.A.R.M learning space in Redding.  This is a casual drop-in gathering\, not a workshop\, so feel free to stop by with your project and mend/chat/even get feedback from others if desired.  Not limited to mending\, any and all handcrafts are welcome.  We may have some scrap fabrics on hand\, but otherwise bring your own materials.  There will be snacks\, beverages\, and good company. \nFor questions\, to RSVP\, or to be added to the email list\, please email Marie at admin@fullcirclewool.com \n  \nSchedule \nSecond Sunday of Each Month – starting March 9\, 2025. \n11:00 am – 3pm \n  \nLocation \nThe F.A.R.M Redding \n1416 Yuba St \nRedding\, CA 96001 \n  \nAbout Full Circle Wool \nFull Circle Wool began in 2013 with the start of Capella Grazing Project. Conceived and operated by Marie Hoff\, Capella Grazing Project integrates heritage breed Ouessant sheep with landscapes in need of the service of grazing\, such as vineyards\, orchards\, and private property seeking fire prevention and brush management.
URL:https://fibershed.org/event/redding-mending-circle-2027-03-14/
LOCATION:The F.A.R.M\, 1416 Yuba St\, Redding\, 96001\, United States
CATEGORIES:event,meeting,mending
ATTACH;FMTTYPE=image/jpeg:https://fibershed.org/wp-content/uploads/2023/12/After-scaled.jpg
ORGANIZER;CN="Full Circle Wool":MAILTO:admin@fullcirclewool.com
END:VEVENT
BEGIN:VEVENT
DTSTART;TZID=America/Los_Angeles:20270411T110000
DTEND;TZID=America/Los_Angeles:20270411T150000
DTSTAMP:20260422T074321
CREATED:20231213T020532Z
LAST-MODIFIED:20231213T020532Z
UID:32824-1807441200-1807455600@fibershed.org
SUMMARY:Redding Mending Circle
DESCRIPTION:Join us for this monthly mending circle\, hosted by Marie Hoff of Full Circle Wool\, at the F.A.R.M learning space in Redding.  This is a casual drop-in gathering\, not a workshop\, so feel free to stop by with your project and mend/chat/even get feedback from others if desired.  Not limited to mending\, any and all handcrafts are welcome.  We may have some scrap fabrics on hand\, but otherwise bring your own materials.  There will be snacks\, beverages\, and good company. \nFor questions\, to RSVP\, or to be added to the email list\, please email Marie at admin@fullcirclewool.com \n  \nSchedule \nSecond Sunday of Each Month – starting March 9\, 2025. \n11:00 am – 3pm \n  \nLocation \nThe F.A.R.M Redding \n1416 Yuba St \nRedding\, CA 96001 \n  \nAbout Full Circle Wool \nFull Circle Wool began in 2013 with the start of Capella Grazing Project. Conceived and operated by Marie Hoff\, Capella Grazing Project integrates heritage breed Ouessant sheep with landscapes in need of the service of grazing\, such as vineyards\, orchards\, and private property seeking fire prevention and brush management.
URL:https://fibershed.org/event/redding-mending-circle-2027-04-11/
LOCATION:The F.A.R.M\, 1416 Yuba St\, Redding\, 96001\, United States
CATEGORIES:event,meeting,mending
ATTACH;FMTTYPE=image/jpeg:https://fibershed.org/wp-content/uploads/2023/12/After-scaled.jpg
ORGANIZER;CN="Full Circle Wool":MAILTO:admin@fullcirclewool.com
END:VEVENT
BEGIN:VEVENT
DTSTART;TZID=America/Los_Angeles:20270509T110000
DTEND;TZID=America/Los_Angeles:20270509T150000
DTSTAMP:20260422T074321
CREATED:20231213T020532Z
LAST-MODIFIED:20231213T020532Z
UID:32886-1809860400-1809874800@fibershed.org
SUMMARY:Redding Mending Circle
DESCRIPTION:Join us for this monthly mending circle\, hosted by Marie Hoff of Full Circle Wool\, at the F.A.R.M learning space in Redding.  This is a casual drop-in gathering\, not a workshop\, so feel free to stop by with your project and mend/chat/even get feedback from others if desired.  Not limited to mending\, any and all handcrafts are welcome.  We may have some scrap fabrics on hand\, but otherwise bring your own materials.  There will be snacks\, beverages\, and good company. \nFor questions\, to RSVP\, or to be added to the email list\, please email Marie at admin@fullcirclewool.com \n  \nSchedule \nSecond Sunday of Each Month – starting March 9\, 2025. \n11:00 am – 3pm \n  \nLocation \nThe F.A.R.M Redding \n1416 Yuba St \nRedding\, CA 96001 \n  \nAbout Full Circle Wool \nFull Circle Wool began in 2013 with the start of Capella Grazing Project. Conceived and operated by Marie Hoff\, Capella Grazing Project integrates heritage breed Ouessant sheep with landscapes in need of the service of grazing\, such as vineyards\, orchards\, and private property seeking fire prevention and brush management.
URL:https://fibershed.org/event/redding-mending-circle-2027-05-09/
LOCATION:The F.A.R.M\, 1416 Yuba St\, Redding\, 96001\, United States
CATEGORIES:event,meeting,mending
ATTACH;FMTTYPE=image/jpeg:https://fibershed.org/wp-content/uploads/2023/12/After-scaled.jpg
ORGANIZER;CN="Full Circle Wool":MAILTO:admin@fullcirclewool.com
END:VEVENT
BEGIN:VEVENT
DTSTART;TZID=America/Los_Angeles:20270613T110000
DTEND;TZID=America/Los_Angeles:20270613T150000
DTSTAMP:20260422T074321
CREATED:20231213T020532Z
LAST-MODIFIED:20231213T020532Z
UID:32924-1812884400-1812898800@fibershed.org
SUMMARY:Redding Mending Circle
DESCRIPTION:Join us for this monthly mending circle\, hosted by Marie Hoff of Full Circle Wool\, at the F.A.R.M learning space in Redding.  This is a casual drop-in gathering\, not a workshop\, so feel free to stop by with your project and mend/chat/even get feedback from others if desired.  Not limited to mending\, any and all handcrafts are welcome.  We may have some scrap fabrics on hand\, but otherwise bring your own materials.  There will be snacks\, beverages\, and good company. \nFor questions\, to RSVP\, or to be added to the email list\, please email Marie at admin@fullcirclewool.com \n  \nSchedule \nSecond Sunday of Each Month – starting March 9\, 2025. \n11:00 am – 3pm \n  \nLocation \nThe F.A.R.M Redding \n1416 Yuba St \nRedding\, CA 96001 \n  \nAbout Full Circle Wool \nFull Circle Wool began in 2013 with the start of Capella Grazing Project. Conceived and operated by Marie Hoff\, Capella Grazing Project integrates heritage breed Ouessant sheep with landscapes in need of the service of grazing\, such as vineyards\, orchards\, and private property seeking fire prevention and brush management.
URL:https://fibershed.org/event/redding-mending-circle-2027-06-13/
LOCATION:The F.A.R.M\, 1416 Yuba St\, Redding\, 96001\, United States
CATEGORIES:event,meeting,mending
ATTACH;FMTTYPE=image/jpeg:https://fibershed.org/wp-content/uploads/2023/12/After-scaled.jpg
ORGANIZER;CN="Full Circle Wool":MAILTO:admin@fullcirclewool.com
END:VEVENT
BEGIN:VEVENT
DTSTART;TZID=America/Los_Angeles:20270711T110000
DTEND;TZID=America/Los_Angeles:20270711T150000
DTSTAMP:20260422T074321
CREATED:20231213T020532Z
LAST-MODIFIED:20231213T020532Z
UID:32964-1815303600-1815318000@fibershed.org
SUMMARY:Redding Mending Circle
DESCRIPTION:Join us for this monthly mending circle\, hosted by Marie Hoff of Full Circle Wool\, at the F.A.R.M learning space in Redding.  This is a casual drop-in gathering\, not a workshop\, so feel free to stop by with your project and mend/chat/even get feedback from others if desired.  Not limited to mending\, any and all handcrafts are welcome.  We may have some scrap fabrics on hand\, but otherwise bring your own materials.  There will be snacks\, beverages\, and good company. \nFor questions\, to RSVP\, or to be added to the email list\, please email Marie at admin@fullcirclewool.com \n  \nSchedule \nSecond Sunday of Each Month – starting March 9\, 2025. \n11:00 am – 3pm \n  \nLocation \nThe F.A.R.M Redding \n1416 Yuba St \nRedding\, CA 96001 \n  \nAbout Full Circle Wool \nFull Circle Wool began in 2013 with the start of Capella Grazing Project. Conceived and operated by Marie Hoff\, Capella Grazing Project integrates heritage breed Ouessant sheep with landscapes in need of the service of grazing\, such as vineyards\, orchards\, and private property seeking fire prevention and brush management.
URL:https://fibershed.org/event/redding-mending-circle-2027-07-11/
LOCATION:The F.A.R.M\, 1416 Yuba St\, Redding\, 96001\, United States
CATEGORIES:event,meeting,mending
ATTACH;FMTTYPE=image/jpeg:https://fibershed.org/wp-content/uploads/2023/12/After-scaled.jpg
ORGANIZER;CN="Full Circle Wool":MAILTO:admin@fullcirclewool.com
END:VEVENT
END:VCALENDAR