BEGIN:VCALENDAR
VERSION:2.0
PRODID:-//Fibershed - ECPv6.15.20//NONSGML v1.0//EN
CALSCALE:GREGORIAN
METHOD:PUBLISH
X-ORIGINAL-URL:https://fibershed.org
X-WR-CALDESC:Events for Fibershed
REFRESH-INTERVAL;VALUE=DURATION:PT1H
X-Robots-Tag:noindex
X-PUBLISHED-TTL:PT1H
BEGIN:VTIMEZONE
TZID:America/Los_Angeles
BEGIN:DAYLIGHT
TZOFFSETFROM:-0800
TZOFFSETTO:-0700
TZNAME:PDT
DTSTART:20220313T100000
END:DAYLIGHT
BEGIN:STANDARD
TZOFFSETFROM:-0700
TZOFFSETTO:-0800
TZNAME:PST
DTSTART:20221106T090000
END:STANDARD
BEGIN:DAYLIGHT
TZOFFSETFROM:-0800
TZOFFSETTO:-0700
TZNAME:PDT
DTSTART:20230312T100000
END:DAYLIGHT
BEGIN:STANDARD
TZOFFSETFROM:-0700
TZOFFSETTO:-0800
TZNAME:PST
DTSTART:20231105T090000
END:STANDARD
BEGIN:DAYLIGHT
TZOFFSETFROM:-0800
TZOFFSETTO:-0700
TZNAME:PDT
DTSTART:20240310T100000
END:DAYLIGHT
BEGIN:STANDARD
TZOFFSETFROM:-0700
TZOFFSETTO:-0800
TZNAME:PST
DTSTART:20241103T090000
END:STANDARD
END:VTIMEZONE
BEGIN:VEVENT
DTSTART;TZID=America/Los_Angeles:20231209T103000
DTEND;TZID=America/Los_Angeles:20231209T160000
DTSTAMP:20260422T040044
CREATED:20231121T182403Z
LAST-MODIFIED:20231121T182638Z
UID:31309-1702117800-1702137600@fibershed.org
SUMMARY:Workshop: Vegetarian Sheepskin Seat Pad
DESCRIPTION:Create a “Vegetarian Sheepskin” Seat Pad\nSaturday\, December 9\, 2023 10:30-4:00 PT \nLearn how to use wet felting to create faux sheepskin pelts. In this class we will work on making seat pads but you will leave with the knowledge (and your pad and other materials) needed to create full size rugs\, scarves\, throws\, pet beds\, and anything else you might see a pelt used for. All materials will be provided\, including the wool\, so you can even say hi to the sheep you will be sitting on. \nAbility to stand at a table and do rolling pin type motions for an extended amount of time is necessary. This class will be outdoors so please dress accordingly and keep in mind that this process can be messy and wet. There will be time for a break so be sure to bring a lunch. \nTeacher: Siobhan Harlakenden is enthusiastic about all things wool. She is a delightful teacher and brings her interest in historical textile construction to her classes\, the latest of which was Medieval Distaff and Spindle Spinning at Lambtown 2023. \nWorkshop fee: $100\nMaterials fee: $66 \nThe materials fee includes all the wool you will need and the supplies that are used to create the faux sheepskin. You will be able to reuse some of those supplies for your next project at home. \nSign Up Here\nContact  \nRobin Lynde\nMeridian Jacobs\n707-688-3493\nEmail: robin@meridianjacobs.com OR meridianjacobs7811@gmail.com\nBlog: www.meridianjacobs.com/meridian-jacobs-blog AND\nhttps://meridianjacobs.wordpress.com \nLocation \n7811 N. Meridian Rd.\nVacaville\, CA 95688
URL:https://fibershed.org/event/workshop-vegetarian-sheepskin/
LOCATION:Meridian Jacobs\, 7811 N. Meridian Rd.\, Vacaville\, CA\, 95688\, United States
CATEGORIES:event,workshop
ORGANIZER;CN="Meridian Jacobs":MAILTO:robin@meridianjacobs.com
END:VEVENT
END:VCALENDAR