BEGIN:VCALENDAR
VERSION:2.0
PRODID:-//Fibershed - ECPv6.15.20//NONSGML v1.0//EN
CALSCALE:GREGORIAN
METHOD:PUBLISH
X-WR-CALNAME:Fibershed
X-ORIGINAL-URL:https://fibershed.org
X-WR-CALDESC:Events for Fibershed
REFRESH-INTERVAL;VALUE=DURATION:PT1H
X-Robots-Tag:noindex
X-PUBLISHED-TTL:PT1H
BEGIN:VTIMEZONE
TZID:America/Los_Angeles
BEGIN:DAYLIGHT
TZOFFSETFROM:-0800
TZOFFSETTO:-0700
TZNAME:PDT
DTSTART:20230312T100000
END:DAYLIGHT
BEGIN:STANDARD
TZOFFSETFROM:-0700
TZOFFSETTO:-0800
TZNAME:PST
DTSTART:20231105T090000
END:STANDARD
BEGIN:DAYLIGHT
TZOFFSETFROM:-0800
TZOFFSETTO:-0700
TZNAME:PDT
DTSTART:20240310T100000
END:DAYLIGHT
BEGIN:STANDARD
TZOFFSETFROM:-0700
TZOFFSETTO:-0800
TZNAME:PST
DTSTART:20241103T090000
END:STANDARD
BEGIN:DAYLIGHT
TZOFFSETFROM:-0800
TZOFFSETTO:-0700
TZNAME:PDT
DTSTART:20250309T100000
END:DAYLIGHT
BEGIN:STANDARD
TZOFFSETFROM:-0700
TZOFFSETTO:-0800
TZNAME:PST
DTSTART:20251102T090000
END:STANDARD
END:VTIMEZONE
BEGIN:VEVENT
DTSTART;TZID=America/Los_Angeles:20240426T090000
DTEND;TZID=America/Los_Angeles:20240428T160000
DTSTAMP:20260423T123857
CREATED:20240313T224906Z
LAST-MODIFIED:20240314T221742Z
UID:31900-1714122000-1714320000@fibershed.org
SUMMARY:Unveiling Rainbows: Exploring the Northern California Fungal Fibershed
DESCRIPTION:Join us for a 3-day immersive revealing the vibrant hues of Northern CA fungi at the Fibershed Learning Center near Point Reyes Station. In this 3-day course\, you will experience the breadth of the art and science behind working with fungal dyes. We will meet from 9am-4pm each day. \nDay 1: Foraging & Testing \nWe’ll start by exploring the local landscape\, practicing techniques for spotting\, documenting\, and identifying mushrooms and lichens with ethical harvest practices\, and test our findings for dye potential. \nDay 2: Regional Rainbow \nThen we’ll work with a curated selection of Northern California’s finest wild dye specimens\, optimizing color required by each fungal group\, and coax vibrant hues from the entire spectrum of color. \nDay 3: Dye Your Own Fiber Day \nOur third day together is dedicated to dyeing your own selection of protein fibers: wool\, silk\, alpaca\, etc. \n\n  \nDate and Time\nApril 26 – 28 \, 9am – 4pm \n  \nLocation\nFibershed Learning Center \n14000 Point Reyes – Petaluma Road \nPoint Reyes Station\, CA 94956 \n  \nAbout The Instructor\nAlissa Allen is an amateur mycologist and the founder of Mycopigments. Widely in demand as a dye instructor\, she specializes in presenting regional mushroom and lichen dye palettes to communities all over North America. For the past three years\, she has expanded her reach to include traditional foraging and textile artisan villages in Oaxaca\, Mexico. In 2022\, She was honored to host the International Fungi and Fiber Symposium in Port Townsend\, WA. \n  \nHow to Register\nLearn more information and secure your spot by registering through this link.
URL:https://fibershed.org/event/unveiling-rainbows-exploring-the-northern-california-fungal-fibershed/
LOCATION:Fibershed Learning Center\, 14000 Pt. Reyes - Petaluma Rd\, Point Reyes Station\, CA\, 94956\, United States
CATEGORIES:class,fiber event,natural dye workshop,workshop
ORGANIZER;CN="Fibershed":MAILTO:hello@fibershed.org
END:VEVENT
BEGIN:VEVENT
DTSTART;TZID=America/Los_Angeles:20240427T090000
DTEND;TZID=America/Los_Angeles:20240429T160000
DTSTAMP:20260423T123857
CREATED:20240313T224906Z
LAST-MODIFIED:20240314T221742Z
UID:31933-1714208400-1714406400@fibershed.org
SUMMARY:Unveiling Rainbows: Exploring the Northern California Fungal Fibershed
DESCRIPTION:Join us for a 3-day immersive revealing the vibrant hues of Northern CA fungi at the Fibershed Learning Center near Point Reyes Station. In this 3-day course\, you will experience the breadth of the art and science behind working with fungal dyes. We will meet from 9am-4pm each day. \nDay 1: Foraging & Testing \nWe’ll start by exploring the local landscape\, practicing techniques for spotting\, documenting\, and identifying mushrooms and lichens with ethical harvest practices\, and test our findings for dye potential. \nDay 2: Regional Rainbow \nThen we’ll work with a curated selection of Northern California’s finest wild dye specimens\, optimizing color required by each fungal group\, and coax vibrant hues from the entire spectrum of color. \nDay 3: Dye Your Own Fiber Day \nOur third day together is dedicated to dyeing your own selection of protein fibers: wool\, silk\, alpaca\, etc. \n\n  \nDate and Time\nApril 26 – 28 \, 9am – 4pm \n  \nLocation\nFibershed Learning Center \n14000 Point Reyes – Petaluma Road \nPoint Reyes Station\, CA 94956 \n  \nAbout The Instructor\nAlissa Allen is an amateur mycologist and the founder of Mycopigments. Widely in demand as a dye instructor\, she specializes in presenting regional mushroom and lichen dye palettes to communities all over North America. For the past three years\, she has expanded her reach to include traditional foraging and textile artisan villages in Oaxaca\, Mexico. In 2022\, She was honored to host the International Fungi and Fiber Symposium in Port Townsend\, WA. \n  \nHow to Register\nLearn more information and secure your spot by registering through this link.
URL:https://fibershed.org/event/unveiling-rainbows-exploring-the-northern-california-fungal-fibershed-2024-04-27/
LOCATION:Fibershed Learning Center\, 14000 Pt. Reyes - Petaluma Rd\, Point Reyes Station\, CA\, 94956\, United States
CATEGORIES:class,fiber event,natural dye workshop,workshop
ORGANIZER;CN="Fibershed":MAILTO:hello@fibershed.org
END:VEVENT
BEGIN:VEVENT
DTSTART;TZID=America/Los_Angeles:20240428T090000
DTEND;TZID=America/Los_Angeles:20240430T160000
DTSTAMP:20260423T123857
CREATED:20240313T224906Z
LAST-MODIFIED:20240314T221743Z
UID:31934-1714294800-1714492800@fibershed.org
SUMMARY:Unveiling Rainbows: Exploring the Northern California Fungal Fibershed
DESCRIPTION:Join us for a 3-day immersive revealing the vibrant hues of Northern CA fungi at the Fibershed Learning Center near Point Reyes Station. In this 3-day course\, you will experience the breadth of the art and science behind working with fungal dyes. We will meet from 9am-4pm each day. \nDay 1: Foraging & Testing \nWe’ll start by exploring the local landscape\, practicing techniques for spotting\, documenting\, and identifying mushrooms and lichens with ethical harvest practices\, and test our findings for dye potential. \nDay 2: Regional Rainbow \nThen we’ll work with a curated selection of Northern California’s finest wild dye specimens\, optimizing color required by each fungal group\, and coax vibrant hues from the entire spectrum of color. \nDay 3: Dye Your Own Fiber Day \nOur third day together is dedicated to dyeing your own selection of protein fibers: wool\, silk\, alpaca\, etc. \n\n  \nDate and Time\nApril 26 – 28 \, 9am – 4pm \n  \nLocation\nFibershed Learning Center \n14000 Point Reyes – Petaluma Road \nPoint Reyes Station\, CA 94956 \n  \nAbout The Instructor\nAlissa Allen is an amateur mycologist and the founder of Mycopigments. Widely in demand as a dye instructor\, she specializes in presenting regional mushroom and lichen dye palettes to communities all over North America. For the past three years\, she has expanded her reach to include traditional foraging and textile artisan villages in Oaxaca\, Mexico. In 2022\, She was honored to host the International Fungi and Fiber Symposium in Port Townsend\, WA. \n  \nHow to Register\nLearn more information and secure your spot by registering through this link.
URL:https://fibershed.org/event/unveiling-rainbows-exploring-the-northern-california-fungal-fibershed-2024-04-28/
LOCATION:Fibershed Learning Center\, 14000 Pt. Reyes - Petaluma Rd\, Point Reyes Station\, CA\, 94956\, United States
CATEGORIES:class,fiber event,natural dye workshop,workshop
ORGANIZER;CN="Fibershed":MAILTO:hello@fibershed.org
END:VEVENT
END:VCALENDAR